BEGIN:VCALENDAR
VERSION:2.0
PRODID:-//jEvents 2.0 for Joomla//EN
CALSCALE:GREGORIAN
METHOD:PUBLISH
BEGIN:VEVENT
UID:CSVConvertc6856fce44674274182e0d42d73624ab
CATEGORIES:Vencimientos
CREATED:20231213T173236
SUMMARY:SIFERE - VENCIMIENTO DDJJ ANUAL PERIODO FISCAL 2023 (CM05) - Díg. Verif. Cuit 0 a 9
DESCRIPTION:
DTSTAMP:20260419T191300
DTSTART;TZID=America/Argentina/Buenos_Aires;VALUE=DATE:20240628
DTEND;TZID=America/Argentina/Buenos_Aires;VALUE=DATE:20240629
SEQUENCE:0
TRANSP:OPAQUE
END:VEVENT
END:VCALENDAR