BEGIN:VCALENDAR
VERSION:2.0
PRODID:-//jEvents 2.0 for Joomla//EN
CALSCALE:GREGORIAN
METHOD:PUBLISH
BEGIN:VEVENT
UID:CSVConvertb5d1505bde59dc27d01c3953c38f0967
CATEGORIES:Vencimientos
CREATED:20231213T173236
SUMMARY:SIFERE - VENCIMIENTO Anticipo Agosto - Díg. Verif. Cuit 6 a 7
DESCRIPTION:
DTSTAMP:20260419T143212
DTSTART;TZID=America/Argentina/Buenos_Aires;VALUE=DATE:20240918
DTEND;TZID=America/Argentina/Buenos_Aires;VALUE=DATE:20240919
SEQUENCE:0
TRANSP:OPAQUE
END:VEVENT
END:VCALENDAR