BEGIN:VCALENDAR
VERSION:2.0
PRODID:-//jEvents 2.0 for Joomla//EN
CALSCALE:GREGORIAN
METHOD:PUBLISH
BEGIN:VEVENT
UID:CSVConvert8b7e87c26b6d3b4964184e48e3557b79
CATEGORIES:Vencimientos
CREATED:20231213T173236
SUMMARY:SIFERE - VENCIMIENTO Anticipo Mayo - Díg. Verif. Cuit 0 a 2
DESCRIPTION:
DTSTAMP:20260419T191258
DTSTART;TZID=America/Argentina/Buenos_Aires;VALUE=DATE:20240614
DTEND;TZID=America/Argentina/Buenos_Aires;VALUE=DATE:20240615
SEQUENCE:0
TRANSP:OPAQUE
END:VEVENT
END:VCALENDAR