BEGIN:VCALENDAR
VERSION:2.0
PRODID:-//jEvents 2.0 for Joomla//EN
CALSCALE:GREGORIAN
METHOD:PUBLISH
BEGIN:VEVENT
UID:CSVConvert8a35046dad16b4daefe64e60b2ba1941
CATEGORIES:Vencimientos
CREATED:20231213T173236
SUMMARY:SIFERE - VENCIMIENTO Anticipo Mayo - Díg. Verif. Cuit 3 a 5
DESCRIPTION:
DTSTAMP:20260419T191313
DTSTART;TZID=America/Argentina/Buenos_Aires;VALUE=DATE:20240618
DTEND;TZID=America/Argentina/Buenos_Aires;VALUE=DATE:20240619
SEQUENCE:0
TRANSP:OPAQUE
END:VEVENT
END:VCALENDAR