BEGIN:VCALENDAR
VERSION:2.0
PRODID:-//jEvents 2.0 for Joomla//EN
CALSCALE:GREGORIAN
METHOD:PUBLISH
BEGIN:VEVENT
UID:CSVConvert3d3bb8d83630f1777d5e8ad802c1c01b
CATEGORIES:Vencimientos
CREATED:20231213T173236
SUMMARY:SIFERE - VENCIMIENTO Anticipo Junio - Díg. Verif. Cuit 3 a 5
DESCRIPTION:
DTSTAMP:20260419T174334
DTSTART;TZID=America/Argentina/Buenos_Aires;VALUE=DATE:20240716
DTEND;TZID=America/Argentina/Buenos_Aires;VALUE=DATE:20240717
SEQUENCE:0
TRANSP:OPAQUE
END:VEVENT
END:VCALENDAR