BEGIN:VCALENDAR
VERSION:2.0
PRODID:-//jEvents 2.0 for Joomla//EN
CALSCALE:GREGORIAN
METHOD:PUBLISH
BEGIN:VEVENT
UID:CSVConvert36a5e3f4e26ac68b73a8428827994e51
CATEGORIES:Vencimientos
CREATED:20231213T173236
SUMMARY:SIFERE - VENCIMIENTO Anticipo Junio - Díg. Verif. Cuit 6 a 7
DESCRIPTION:
DTSTAMP:20260419T174021
DTSTART;TZID=America/Argentina/Buenos_Aires;VALUE=DATE:20240717
DTEND;TZID=America/Argentina/Buenos_Aires;VALUE=DATE:20240718
SEQUENCE:0
TRANSP:OPAQUE
END:VEVENT
END:VCALENDAR