BEGIN:VCALENDAR
VERSION:2.0
PRODID:-//jEvents 2.0 for Joomla//EN
CALSCALE:GREGORIAN
METHOD:PUBLISH
BEGIN:VEVENT
UID:CSVConvert308a384c57a173b33c6426beef1b808d
CATEGORIES:Vencimientos
CREATED:20231213T173236
SUMMARY:SIFERE - VENCIMIENTO Anticipo Octubre - Díg. Verif. Cuit 8 a 9
DESCRIPTION:
DTSTAMP:20260421T085153
DTSTART;TZID=America/Argentina/Buenos_Aires;VALUE=DATE:20241121
DTEND;TZID=America/Argentina/Buenos_Aires;VALUE=DATE:20241122
SEQUENCE:0
TRANSP:OPAQUE
END:VEVENT
END:VCALENDAR