BEGIN:VCALENDAR
VERSION:2.0
PRODID:-//jEvents 2.0 for Joomla//EN
CALSCALE:GREGORIAN
METHOD:PUBLISH
BEGIN:VEVENT
UID:CSVConvert22587f8ea409fad391e5cccabb7e53ea
CATEGORIES:Vencimientos
CREATED:20231213T173236
SUMMARY:SIFERE - VENCIMIENTO Anticipo Junio - Díg. Verif. Cuit 8 a 9
DESCRIPTION:
DTSTAMP:20260419T174033
DTSTART;TZID=America/Argentina/Buenos_Aires;VALUE=DATE:20240718
DTEND;TZID=America/Argentina/Buenos_Aires;VALUE=DATE:20240719
SEQUENCE:0
TRANSP:OPAQUE
END:VEVENT
END:VCALENDAR