BEGIN:VCALENDAR
VERSION:2.0
PRODID:-//jEvents 2.0 for Joomla//EN
CALSCALE:GREGORIAN
METHOD:PUBLISH
BEGIN:VEVENT
UID:CSVConvert0f538e88001b6b6335ba7b70dda74c4d
CATEGORIES:Vencimientos
CREATED:20231213T173236
SUMMARY:SIFERE - VENCIMIENTO Anticipo Septiembre - Díg. Verif. Cuit 0 a 2
DESCRIPTION:
DTSTAMP:20260419T123748
DTSTART;TZID=America/Argentina/Buenos_Aires;VALUE=DATE:20241015
DTEND;TZID=America/Argentina/Buenos_Aires;VALUE=DATE:20241016
SEQUENCE:0
TRANSP:OPAQUE
END:VEVENT
END:VCALENDAR