BEGIN:VCALENDAR
VERSION:2.0
PRODID:-//jEvents 2.0 for Joomla//EN
CALSCALE:GREGORIAN
METHOD:PUBLISH
BEGIN:VEVENT
UID:CSVConverte67d8b67cd99f32bd4a00dbbb300f0b4
CATEGORIES:Vencimientos
CREATED:20230323T174811
SUMMARY:SIFERE - VENCIMIENTO Anticipo Diciembre - DV CUIT 3 a 5
DESCRIPTION:
DTSTAMP:20260420T034810
DTSTART;TZID=America/Argentina/Buenos_Aires;VALUE=DATE:20240116
DTEND;TZID=America/Argentina/Buenos_Aires;VALUE=DATE:20240117
SEQUENCE:0
TRANSP:OPAQUE
END:VEVENT
END:VCALENDAR